BEGIN:VCALENDAR
VERSION:2.0
PRODID:-//ICSTestCS/
CALSCALE:GREGORIAN
BEGIN:VTIMEZONE
TZID:ET
BEGIN:STANDARD
DTSTART:20071104T020000
RRULE:FREQ=YEARLY;BYDAY=1SU;BYMONTH=11
TZOFFSETFROM:-0400
TZOFFSETTO:-0500
TZNAME:EST
END:STANDARD
BEGIN:DAYLIGHT
DTSTART:20070311T020000
RRULE:FREQ=YEARLY;BYDAY=2SU;BYMONTH=3
TZOFFSETFROM:-0500
TZOFFSETTO:-0400
TZNAME:EDT
END:DAYLIGHT
END:VTIMEZONE
BEGIN:VTIMEZONE
TZID:CT
BEGIN:STANDARD
DTSTART:20071104T020000
RRULE:FREQ=YEARLY;BYDAY=1SU;BYMONTH=11
TZOFFSETFROM:-0500
TZOFFSETTO:-0600
TZNAME:CST
END:STANDARD
BEGIN:DAYLIGHT
DTSTART:20070311T020000
RRULE:FREQ=YEARLY;BYDAY=2SU;BYMONTH=3
TZOFFSETFROM:-0600
TZOFFSETTO:-0500
TZNAME:CDT
END:DAYLIGHT
END:VTIMEZONE
BEGIN:VTIMEZONE
TZID:MT
BEGIN:STANDARD
DTSTART:20071104T020000
RRULE:FREQ=YEARLY;BYDAY=1SU;BYMONTH=11
TZOFFSETFROM:-0600
TZOFFSETTO:-0700
TZNAME:MST
END:STANDARD
BEGIN:DAYLIGHT
DTSTART:20070311T020000
RRULE:FREQ=YEARLY;BYDAY=2SU;BYMONTH=3
TZOFFSETFROM:-0700
TZOFFSETTO:-0600
TZNAME:MDT
END:DAYLIGHT
END:VTIMEZONE
BEGIN:VTIMEZONE
TZID:PT
BEGIN:STANDARD
DTSTART:20071104T020000
RRULE:FREQ=YEARLY;BYDAY=1SU;BYMONTH=11
TZOFFSETFROM:-0700
TZOFFSETTO:-0800
TZNAME:PST
END:STANDARD
BEGIN:DAYLIGHT
DTSTART:20070311T020000
RRULE:FREQ=YEARLY;BYDAY=2SU;BYMONTH=3
TZOFFSETFROM:-0800
TZOFFSETTO:-0700
TZNAME:PDT
END:DAYLIGHT
END:VTIMEZONE
BEGIN:VEVENT
DTSTART;TZID=ET:20250908T000000
DTEND;TZID=ET:20250910T000000
SUMMARY:NASEO National Building Summit
LOCATION:Conference Center, 22nd Floor, 1812 N Moore St, Arlington, VA 22209
DESCRIPTION:<p>Thank you for your registratio to the NASEO National Building Summit.&nbsp;The in-person, inaugural 2025 NASEO National Buildings Summit will take place over one and a half days on September 8-9, 2025, in Arlington, VA. The theme of the conference is &quot;State Innovations in Advancing Building Energy Efficiency, Affordability, and Resilience.&quot;</p>
X-ALT-DESC;FMTTYPE=text/html:<p>Thank you for your registratio to the NASEO National Building Summit.&nbsp;The in-person, inaugural 2025 NASEO National Buildings Summit will take place over one and a half days on September 8-9, 2025, in Arlington, VA. The theme of the conference is &quot;State Innovations in Advancing Building Energy Efficiency, Affordability, and Resilience.&quot;</p>
UID:1
SEQUENCE:0
DTSTAMP:20260419T185017
X-MICROSOFT-CDO-ALLDAYEVENT:TRUE
X-MICROSOFT-MSNCALENDAR-ALLDAYEVENT:TRUE
BEGIN:VALARM
ACTION:DISPLAY
DESCRIPTION:Reminder
TRIGGER:-PT15M
END:VALARM
END:VEVENT
END:VCALENDAR
